BEGIN:VCALENDAR
VERSION:2.0
PRODID:-//Avada Yoga - ECPv6.15.18//NONSGML v1.0//EN
CALSCALE:GREGORIAN
METHOD:PUBLISH
X-WR-CALNAME:Avada Yoga
X-ORIGINAL-URL:https://yoga-jiva.com
X-WR-CALDESC:Évènements pour Avada Yoga
REFRESH-INTERVAL;VALUE=DURATION:PT1H
X-Robots-Tag:noindex
X-PUBLISHED-TTL:PT1H
BEGIN:VTIMEZONE
TZID:UTC
BEGIN:STANDARD
TZOFFSETFROM:+0000
TZOFFSETTO:+0000
TZNAME:UTC
DTSTART:20250101T000000
END:STANDARD
END:VTIMEZONE
BEGIN:VEVENT
DTSTART;VALUE=DATE:20260425
DTEND;VALUE=DATE:20260427
DTSTAMP:20260418T110317
CREATED:20260210T135738Z
LAST-MODIFIED:20260210T142601Z
UID:1977-1777075200-1777247999@yoga-jiva.com
SUMMARY:Йога асани
DESCRIPTION:Йога асани – начална серия \nСофия \n 25 и 26-ти април 2026 г. \n25/04\, събота:  9.00 –  11.45 ч. и 16.30 –  19.00 ч. \n26/04\, неделя:    9.00 – 11.30 ч. и 16.30 – 19.15 ч.\n\n🔺 Присъствието и на 4-те занятия е необходимо.\n\n\n\nМЯСТО: Различното място за събития OM Yoga & Lifestyle\nбул. « Евлоги и Христо Георгиеви » 169\,  1504 София\n\n\n\n\n\nЦена за участие: 150 евро\nНамаление за ранно записване –  до 10/04:  125 евро\n « Йога с приятел » (група от 2ма или повече души): 125 евро\n За учащи се: 75 евро.\n\nПлащането на части е възможно \n\n\nСлед като попълните формуляра за записване\, ще получите мейл за начина на плащане и протичането на курса.
URL:https://yoga-jiva.com/event/%d0%b9%d0%be%d0%b3%d0%b0-%d0%b0%d1%81%d0%b0%d0%bd%d0%b8-%d0%bd%d0%b0%d1%87%d0%b0%d0%bb%d0%bd%d0%b0-%d1%81%d0%b5%d1%80%d0%b8%d1%8f/
CATEGORIES:BU
ATTACH;FMTTYPE=image/jpeg:https://yoga-jiva.com/wp-content/uploads/2025/01/Yogasanas-scaled.jpg
END:VEVENT
END:VCALENDAR